BEGIN:VCALENDAR
VERSION:2.0
PRODID:-//wp-events-plugin.com//7.2.3.1//EN
BEGIN:VEVENT
UID:6@bremen-rockt.de
DTSTART:20251025T200000Z
DTEND:20251025T235900Z
DTSTAMP:20251001T175338Z
URL:https://bremen-rockt.de/events/skythe-beast-fear-connection-terrible-s
 ickness/
SUMMARY:Skythe Beast\, Fear Connection & Terrible Sickness
DESCRIPTION:
LOCATION:Rathaus\, Galtener Str. 12\, Sulingen\, 27232\, Deutschland
X-APPLE-STRUCTURED-LOCATION;VALUE=URI;X-ADDRESS=Galtener Str. 12\, Sulingen
 \, 27232\, Deutschland;X-APPLE-RADIUS=100;X-TITLE=Rathaus:geo:0,0
END:VEVENT
END:VCALENDAR