BEGIN:VCALENDAR
VERSION:2.0
PRODID:-//wp-events-plugin.com//7.2.3.1//EN
BEGIN:VEVENT
UID:11@bremen-rockt.de
DTSTART:20251004T200000Z
DTEND:20251004T235900Z
DTSTAMP:20250930T195109Z
URL:https://bremen-rockt.de/events/rumble-militia-nebenwirkung-drongos-for
 -europe/
SUMMARY:Rumble Militia\, Nebenwirkung\, Drongos for Europe
DESCRIPTION:Rumble Militia\, Nebenwirkung\, Drongos for Europe
LOCATION:Meisefrei Bluesclub\, Hankenstr. 18\, Bremen\, Bemen\, 28195\, Deu
 tschland
X-APPLE-STRUCTURED-LOCATION;VALUE=URI;X-ADDRESS=Hankenstr. 18\, Bremen\, Be
 men\, 28195\, Deutschland;X-APPLE-RADIUS=100;X-TITLE=Meisefrei Bluesclub:g
 eo:0,0
END:VEVENT
END:VCALENDAR