BEGIN:VCALENDAR
VERSION:2.0
PRODID:-//wp-events-plugin.com//7.2.3.1//EN
BEGIN:VEVENT
UID:10@bremen-rockt.de
DTSTART:20251002T200000Z
DTEND:20251002T235900Z
DTSTAMP:20251001T171200Z
URL:https://bremen-rockt.de/events/project-priest/
SUMMARY:Project Priest
DESCRIPTION:\n\nFacebook Event
LOCATION:Meisenfrei Bluesclub\, Hankenstr. 18\, Bremen\, 28195\, Deutschlan
 d
X-APPLE-STRUCTURED-LOCATION;VALUE=URI;X-ADDRESS=Hankenstr. 18\, Bremen\, 28
 195\, Deutschland;X-APPLE-RADIUS=100;X-TITLE=Meisenfrei Bluesclub:geo:0,0
END:VEVENT
END:VCALENDAR